BEGIN:VCALENDAR
VERSION:2.0
PRODID:-//Bethany Baptist Church - ECPv4.8.0.1//NONSGML v1.0//EN
CALSCALE:GREGORIAN
METHOD:PUBLISH
X-WR-CALNAME:Bethany Baptist Church
X-ORIGINAL-URL:http://www.bethanybaptistchurch.org.au
X-WR-CALDESC:Events for Bethany Baptist Church
BEGIN:VEVENT
DTSTART;VALUE=DATE:20190419
DTEND;VALUE=DATE:20190423
DTSTAMP:20190228T093724
CREATED:20180809T142441Z
LAST-MODIFIED:20180809T142516Z
UID:404-1555632000-1555977599@www.bethanybaptistchurch.org.au
SUMMARY:Family Camp 2019
DESCRIPTION:Family Camp 2019 is scheduled to be held between 19th – 22nd April 2019 at Baptist Camp Ground\, Busselton. \n
URL:http://www.bethanybaptistchurch.org.au/event/family-camp-2019/
END:VEVENT
END:VCALENDAR